BEGIN:VCALENDAR
VERSION:2.0
PRODID:-//Théâtre de la LNI - ECPv6.15.11//NONSGML v1.0//EN
CALSCALE:GREGORIAN
METHOD:PUBLISH
X-ORIGINAL-URL:https://lni.ca
X-WR-CALDESC:Évènements pour Théâtre de la LNI
REFRESH-INTERVAL;VALUE=DURATION:PT1H
X-Robots-Tag:noindex
X-PUBLISHED-TTL:PT1H
BEGIN:VTIMEZONE
TZID:America/Toronto
BEGIN:DAYLIGHT
TZOFFSETFROM:-0500
TZOFFSETTO:-0400
TZNAME:EDT
DTSTART:20250309T070000
END:DAYLIGHT
BEGIN:STANDARD
TZOFFSETFROM:-0400
TZOFFSETTO:-0500
TZNAME:EST
DTSTART:20251102T060000
END:STANDARD
BEGIN:DAYLIGHT
TZOFFSETFROM:-0500
TZOFFSETTO:-0400
TZNAME:EDT
DTSTART:20260308T070000
END:DAYLIGHT
BEGIN:STANDARD
TZOFFSETFROM:-0400
TZOFFSETTO:-0500
TZNAME:EST
DTSTART:20261101T060000
END:STANDARD
BEGIN:DAYLIGHT
TZOFFSETFROM:-0500
TZOFFSETTO:-0400
TZNAME:EDT
DTSTART:20270314T070000
END:DAYLIGHT
BEGIN:STANDARD
TZOFFSETFROM:-0400
TZOFFSETTO:-0500
TZNAME:EST
DTSTART:20271107T060000
END:STANDARD
END:VTIMEZONE
BEGIN:VEVENT
DTSTART;TZID=America/Toronto:20260503T140000
DTEND;TZID=America/Toronto:20260503T140000
DTSTAMP:20260421T165536
CREATED:20250903T160559Z
LAST-MODIFIED:20260421T205258Z
UID:15798-1777816800-1777816800@lni.ca
SUMMARY:DEMI-FINALE #1 — SCC2026
DESCRIPTION:Les VIOLETS : Eve LANDRY – Mathieu LEPAGE – Marie Eve MORENCY – Francis SASSEVILLE – Vincent BOLDUC (entraîneur)\nVS\nLes JAUNES : Martin BOILY – Salomé CORBO – LeLouis COURCHESNE – Sophie THIBEAULT – Delphine BIENVENU (entraîneure)\n– – – – – – \nArbitre : Yvan PONTON \nAnimation : Anaïs FAVRON \nAnalyse : Christian VANASSE \nDirection musicale : Éric DESRANLEAU \nÉclairages : Hendrick CRÉPIN \nInterprète de l’hymne : Andy ST-LOUIS \n\nLa Saison de la Coupe Charade est de retour avec ses 15 matchs réguliers\, ses 2 rencontres en demi-finales et son match final déterminant l’équipe vainqueure\, sans oublier le Match des Étoiles et le Match Jeunesse (où des artistes de la LNI affrontent une équipe formée de comédien·nes issu·es d’une émission jeunesse populaire) ! \nVéritable art national avec près de 50 ans d’existence\, le concept original du Match d’impro de la LNI attire chaque année plusieurs milliers de spectateur·rices. Revêtu de son fameux décorum inspiré du hockey\, ce spectacle pousse l’expérience au-delà de la simple compétition : sur la patinoire\, au-delà de l’ambition de s’emparer de la Coupe Charade\, les comédien·nes-improvisateur·rices se font une mission de vous surprendre\, vous amuser\, vous émouvoir…  bref\, de jouer des multiples cordes inhérentes à l’art de l’improvisation. \nQuelle équipe remportera le match ? Lesquelles passeront en demi-finales puis en finale ? Laquelle sortira championne de cette Saison de la Coupe Charade 2026 ?  Au public de voter ! \n\nBILLETTERIE
URL:https://lni.ca/evenement/demi-finale-1-scc2026/
LOCATION:MTELUS\, 59 Rue Sainte-Catherine Est\, Montréal\, Québec\, H2X 1K5\, Canada
CATEGORIES:Matchs d'impro,Saison de la Coupe Charade,Spectacles
ATTACH;FMTTYPE=image/jpeg:https://lni.ca/wp-content/uploads/2025/09/DemiF1b-3mai_matchsCARRE_Scc2026-LNI.jpg
END:VEVENT
BEGIN:VEVENT
DTSTART;TZID=America/Toronto:20260503T190000
DTEND;TZID=America/Toronto:20260503T190000
DTSTAMP:20260421T165536
CREATED:20250903T160524Z
LAST-MODIFIED:20260212T205115Z
UID:15802-1777834800-1777834800@lni.ca
SUMMARY:DEMI-FINALE #2 — SCC2026
DESCRIPTION:Informations sur les ÉQUIPES qui s’affronteront à venir…\n– – – – – – \nArbitre : Yvan PONTON \nAnimation : à confirmer… \nAnalyse : Christian VANASSE \nDirection musicale : Éric DESRANLEAU \nÉclairages : Hendrick CRÉPIN \nInterprète de l’hymne : Andy ST-LOUIS \n\nLa Saison de la Coupe Charade est de retour avec ses 15 matchs réguliers\, ses 2 rencontres en demi-finales et son match final déterminant l’équipe vainqueure\, sans oublier le Match des Étoiles et le Match Jeunesse (où des artistes de la LNI affrontent une équipe formée de comédien·nes issu·es d’une émission jeunesse populaire) ! \nVéritable art national avec près de 50 ans d’existence\, le concept original du Match d’impro de la LNI attire chaque année plusieurs milliers de spectateur·rices. Revêtu de son fameux décorum inspiré du hockey\, ce spectacle pousse l’expérience au-delà de la simple compétition : sur la patinoire\, au-delà de l’ambition de s’emparer de la Coupe Charade\, les comédien·nes-improvisateur·rices se font une mission de vous surprendre\, vous amuser\, vous émouvoir…  bref\, de jouer des multiples cordes inhérentes à l’art de l’improvisation. \nQuelle équipe remportera le match ? Lesquelles passeront en demi-finales puis en finale ? Laquelle sortira championne de cette Saison de la Coupe Charade 2026 ?  Au public de voter ! \n\nBILLETTERIE\n 
URL:https://lni.ca/evenement/demi-finale-2-scc2026/
LOCATION:MTELUS\, 59 Rue Sainte-Catherine Est\, Montréal\, Québec\, H2X 1K5\, Canada
CATEGORIES:Matchs d'impro,Saison de la Coupe Charade,Spectacles
ATTACH;FMTTYPE=image/jpeg:https://lni.ca/wp-content/uploads/2025/08/DemiF1-3mai_matchsCARRE_Scc2026-LNI.jpg
END:VEVENT
BEGIN:VEVENT
DTSTART;TZID=America/Toronto:20260504T190000
DTEND;TZID=America/Toronto:20260504T190000
DTSTAMP:20260421T165536
CREATED:20250903T155945Z
LAST-MODIFIED:20260417T172413Z
UID:15808-1777921200-1777921200@lni.ca
SUMMARY:MATCH DES ÉTOILES - SCC2026
DESCRIPTION:LES BLEUS – Fabiola N. ALADIN\, LeLouis COURCHESNE\, Guy JODOIN\, Eve LANDRY\nLES ROUGES – Frédéric BARBUSCI\, Pier-Luc FUNK\, Marie Eve MORENCY\, Joëlle PARÉ-BEAULIEU\n– – – – – – \nArbitre : le légendaire Yvan PONTON ! \nAnimation : Anaïs FAVRON \nAnalyse : Christian VANASSE \nDirection musicale : Éric DESRANLEAU \nÉclairages : Hendrick CRÉPIN \nInterprète de l’hymne : Andy ST-LOUIS \n\nLe lundi 4 mai\, dès 19h\, au MTELUS (Montréal)\, se tiendra la 34e édition du Match des Étoiles de la LNI ! Opposant deux équipes constituées de joueurs et de joueuses officiel·les de la LNI sélectionné·es avec l’aide des abonné·es de la Saison de la Coupe Charade\, cette joute toujours très attendue fait le pont entre les Demi-finales du 3 mai et la grande Finale de la saison du 11 mai prochain. Cette année est toutefois particulièrement exceptionnelle : Réal Bossé\, véritable vétéran de la LNI ayant marqué son histoire de 1995 à 2023\, sera intronisé au prestigieux Temple de la Renommée de la Ligue Nationale d’Improvisation au cours d’une touchante cérémonie qui ouvrira le match! \nBILLETTERIE\n\n\nBONIFIEZ VOTRE EXPÉRIENCE :\nLa Célébration du Temple de la Renommée\nVivre la soirée aux premières loges… ou carrément sur scène!\nPour marquer cette édition 2026\, le Match des Étoiles propose une expérience hors du commun: le cocktail-bénéfice La Célébration du Temple de la Renommée. En se procurant ces billets VIP\, le public aura accès à divers privilèges\, dont notamment des consommations gratuites\, des sièges dans une section dédiée pour assister au spectacle et l’accès au cocktail privé de La Célébration en compagnie d’artistes de la LNI\, qui lancera les festivités dès 17h. Mais\, pour vivre l’expérience ultime\, le billet VIP-Sur scène offre le privilège de prendre place à la section spéciale aménagée directement sur la scène! Cet événement-bénéfice est une belle occasion de soutenir la mission du Théâtre de la Ligue Nationale d’Improvisation\, pour que la création de moments uniques puisse continuer à nous rassembler pour longtemps… \nEN SAVOIR PLUS et SE PROCURER CES BILLETS VIP\n 
URL:https://lni.ca/evenement/match-des-etoiles-scc2026/
LOCATION:MTELUS\, 59 Rue Sainte-Catherine Est\, Montréal\, Québec\, H2X 1K5\, Canada
CATEGORIES:Matchs d'impro,Saison de la Coupe Charade,Spectacles
ATTACH;FMTTYPE=image/png:https://lni.ca/wp-content/uploads/2025/09/carr_MEtoiles-2026-A.png
END:VEVENT
BEGIN:VEVENT
DTSTART;TZID=America/Toronto:20260511T190000
DTEND;TZID=America/Toronto:20260511T190000
DTSTAMP:20260421T165536
CREATED:20250903T160359Z
LAST-MODIFIED:20260212T205215Z
UID:15806-1778526000-1778526000@lni.ca
SUMMARY:FINALE - SCC2026
DESCRIPTION:Informations sur les ÉQUIPES qui s’affronteront à venir…\n– – – – – – \nArbitre : Édith COCHRANE \nAnimation : à confirmer… \nAnalyse : Christian VANASSE \nDirection musicale : Éric DESRANLEAU \nÉclairages : Hendrick CRÉPIN \nInterprète de l’hymne : Andy ST-LOUIS \n– – – – – – \n\nLa Saison de la Coupe Charade est de retour avec ses 15 matchs réguliers\, ses 2 rencontres en demi-finales et son match final déterminant l’équipe vainqueure\, sans oublier le Match des Étoiles et le Match Jeunesse (où des artistes de la LNI affrontent une équipe formée de comédien·nes issu·es d’une émission jeunesse populaire) ! \nVéritable art national avec près de 50 ans d’existence\, le concept original du Match d’impro de la LNI attire chaque année plusieurs milliers de spectateur·rices. Revêtu de son fameux décorum inspiré du hockey\, ce spectacle pousse l’expérience au-delà de la simple compétition : sur la patinoire\, au-delà de l’ambition de s’emparer de la Coupe Charade\, les comédien·nes-improvisateur·rices se font une mission de vous surprendre\, vous amuser\, vous émouvoir…  bref\, de jouer des multiples cordes inhérentes à l’art de l’improvisation. \nQuelle équipe remportera le match ? Lesquelles passeront en demi-finales puis en finale ? Laquelle sortira championne de cette Saison de la Coupe Charade 2026 ?  Au public de voter ! \n\nBILLETTERIE\n 
URL:https://lni.ca/evenement/finale-scc2026/
LOCATION:MTELUS\, 59 Rue Sainte-Catherine Est\, Montréal\, Québec\, H2X 1K5\, Canada
CATEGORIES:Matchs d'impro,Saison de la Coupe Charade,Spectacles
ATTACH;FMTTYPE=image/jpeg:https://lni.ca/wp-content/uploads/2025/08/DemiF1-3mai_matchsCARRE_Scc2026-LNI.jpg
END:VEVENT
END:VCALENDAR