BEGIN:VCALENDAR
VERSION:2.0
PRODID:-//Théâtre de la LNI - ECPv6.15.11//NONSGML v1.0//EN
CALSCALE:GREGORIAN
METHOD:PUBLISH
X-ORIGINAL-URL:https://lni.ca
X-WR-CALDESC:Évènements pour Théâtre de la LNI
REFRESH-INTERVAL;VALUE=DURATION:PT1H
X-Robots-Tag:noindex
X-PUBLISHED-TTL:PT1H
BEGIN:VTIMEZONE
TZID:America/Toronto
BEGIN:DAYLIGHT
TZOFFSETFROM:-0500
TZOFFSETTO:-0400
TZNAME:EDT
DTSTART:20250309T070000
END:DAYLIGHT
BEGIN:STANDARD
TZOFFSETFROM:-0400
TZOFFSETTO:-0500
TZNAME:EST
DTSTART:20251102T060000
END:STANDARD
BEGIN:DAYLIGHT
TZOFFSETFROM:-0500
TZOFFSETTO:-0400
TZNAME:EDT
DTSTART:20260308T070000
END:DAYLIGHT
BEGIN:STANDARD
TZOFFSETFROM:-0400
TZOFFSETTO:-0500
TZNAME:EST
DTSTART:20261101T060000
END:STANDARD
BEGIN:DAYLIGHT
TZOFFSETFROM:-0500
TZOFFSETTO:-0400
TZNAME:EDT
DTSTART:20270314T070000
END:DAYLIGHT
BEGIN:STANDARD
TZOFFSETFROM:-0400
TZOFFSETTO:-0500
TZNAME:EST
DTSTART:20271107T060000
END:STANDARD
END:VTIMEZONE
BEGIN:VEVENT
DTSTART;TZID=America/Toronto:20260301T140000
DTEND;TZID=America/Toronto:20260301T140000
DTSTAMP:20260421T165231
CREATED:20250903T160301Z
LAST-MODIFIED:20260212T204229Z
UID:15814-1772373600-1772373600@lni.ca
SUMMARY:MATCH JEUNESSE - SCC2026
DESCRIPTION:ÉQUIPE DENIS DANGER vs ÉQUIPE LNI\nÉquipe Télé-Québec | DENIS DANGER\nLéanne DÉSILETS (alias Anne-Marie Fiori)\nMickaël GOUIN (alias Denis Danger)\nJoanie GUERIN (alias Chantal)\nRichardson ZEPHIR (alias Raton Voleur)\nENTRAINEUR : Vincent BOLDUC (Réalisateur de DENIS DANGER & Entraîneur de l’équipe des VIOLETS de la LNI) \nÉquipe LNI :\nFabiola N. ALADIN\nLeLouis COURCHESNE\nPier-Luc FUNK\nJoëlle PARÉ-BEAULIEU\nENTRAINEURE : Marie-Hélène THIBEAULT (Entraîneure de l’équipe des BLEUS à la LNI & Nathalie Fiori dans la série DENIS DANGER) \n– – – – – – \nArbitre : Yvan PONTON \nAnimation : Mélanie MAYNARD \nAnalyse : Christian VANASSE \nDirection musicale : Éric DESRANLEAU \nÉclairages : Hendrick CRÉPIN \nInterprète de l’hymne : Andy ST-LOUIS \n  \n\nCette année\, la LNI met au défi DENIS DANGER!\nLe Théâtre de la Ligue Nationale d’Improvisation a à nouveau le plaisir de se joindre à Télé-Québec pour agrémenter la période de relâche scolaire d’un spectacle des plus divertissants qui sait plaire à toute la famille : le Match Jeunesse ! Le concept : une équipe constituée de comédien·nes issu·es d’une émission populaire de Télé-Québec doit se mesurer à des joueur·euses étoiles de la LNI… \n Cette saison\, ce sont des acteur·rices de l’étonnante comédie DENIS DANGER qui relèveront ce défi! \n\nBILLETTERIE\n 
URL:https://lni.ca/evenement/match-jeunesse-scc2026/
LOCATION:MTELUS\, 59 Rue Sainte-Catherine Est\, Montréal\, Québec\, H2X 1K5\, Canada
CATEGORIES:Matchs d'impro,Saison de la Coupe Charade,Spectacles
ATTACH;FMTTYPE=image/jpeg:https://lni.ca/wp-content/uploads/2025/09/2100x2100_MJ-2026-A_VF2.jpg
END:VEVENT
BEGIN:VEVENT
DTSTART;TZID=America/Toronto:20260302T190000
DTEND;TZID=America/Toronto:20260302T190000
DTSTAMP:20260421T165231
CREATED:20250903T161957Z
LAST-MODIFIED:20260226T191626Z
UID:15743-1772478000-1772478000@lni.ca
SUMMARY:Match #5 — SCC2026 | ORANGES vs ROUGES
DESCRIPTION:Les ORANGES : Jean-François AUBÉ – Louis-Philippe DESJARDINS – Joëlle PARÉ-BEAULIEU – Brigitte SOUCY – René ROUSSEAU (entraîneur)\nVS\nLes ROUGES : Sophie CARON – Louis CARRIÈRE – Marie Soleil DION – Lyndz DANTISTE (en remplacement de Patrick HUARD) – Sylvie MOREAU (entraîneure)\n– – – – – – \nArbitrage : Yvan PONTON \nAnimation : Mélanie MAYNARD \nAnalyse : Christian VANASSE \nDirection musicale : Éric DESRANLEAU \nÉclairages : Hendrick CRÉPIN \nInterprète de l’hymne : Andy ST-LOUIS \n\nLa Saison de la Coupe Charade est de retour avec ses 15 matchs réguliers\, ses 2 rencontres en demi-finales et son match final déterminant l’équipe vainqueure\, sans oublier le Match des Étoiles et le Match Jeunesse (où des artistes de la LNI affrontent une équipe formée de comédien·nes issu·es d’une émission jeunesse populaire) ! \nVéritable art national avec près de 50 ans d’existence\, le concept original du Match d’impro de la LNI attire chaque année plusieurs milliers de spectateur·rices. Revêtu de son fameux décorum inspiré du hockey\, ce spectacle pousse l’expérience au-delà de la simple compétition : sur la patinoire\, au-delà de l’ambition de s’emparer de la Coupe Charade\, les comédien·nes-improvisateur·rices se font une mission de vous surprendre\, vous amuser\, vous émouvoir…  bref\, de jouer des multiples cordes inhérentes à l’art de l’improvisation. \nQuelle équipe remportera le match ? Lesquelles passeront en demi-finales puis en finale ? Laquelle sortira championne de cette Saison de la Coupe Charade 2026 ?  Au public de voter ! \n\nBILLETTERIE
URL:https://lni.ca/evenement/match-5-scc2026-oranges-vs-rouges/
LOCATION:MTELUS\, 59 Rue Sainte-Catherine Est\, Montréal\, Québec\, H2X 1K5\, Canada
CATEGORIES:Matchs d'impro,Saison de la Coupe Charade,Spectacles
ATTACH;FMTTYPE=image/jpeg:https://lni.ca/wp-content/uploads/2025/08/05-2mars_matchsCARRE_Scc2026-LNI__O-R.jpg
END:VEVENT
BEGIN:VEVENT
DTSTART;TZID=America/Toronto:20260308T140000
DTEND;TZID=America/Toronto:20260308T140000
DTSTAMP:20260421T165231
CREATED:20250903T162127Z
LAST-MODIFIED:20260212T204341Z
UID:15746-1772978400-1772978400@lni.ca
SUMMARY:Match #6 — SCC2026 | BLEUS vs VERTS
DESCRIPTION:Les BLEUS : Frédéric BARBUSCI – Anne-Marie BINETTE – Guy JODOIN – Mira MOISAN – Marie-Hélène THIBAULT (entraîneure)\nVS\nLes VERTS : Fabiola N. ALADIN – Pier-Luc FUNK – Corinne FORTIN – François-Étienne PARÉ – Christian BRISSON-DARGIS (entraîneur)\n– – – – – – \nArbitrage : Simon ROUSSEAU \nAnimation : Anaïs FAVRON \nAnalyse : Christian VANASSE \nDirection musicale : Éric DESRANLEAU \nÉclairages : Hendrick CRÉPIN \nInterprète de l’hymne : Andy ST-LOUIS \n\nLa Saison de la Coupe Charade est de retour avec ses 15 matchs réguliers\, ses 2 rencontres en demi-finales et son match final déterminant l’équipe vainqueure\, sans oublier le Match des Étoiles et le Match Jeunesse (où des artistes de la LNI affrontent une équipe formée de comédien·nes issu·es d’une émission jeunesse populaire) ! \nVéritable art national avec près de 50 ans d’existence\, le concept original du Match d’impro de la LNI attire chaque année plusieurs milliers de spectateur·rices. Revêtu de son fameux décorum inspiré du hockey\, ce spectacle pousse l’expérience au-delà de la simple compétition : sur la patinoire\, au-delà de l’ambition de s’emparer de la Coupe Charade\, les comédien·nes-improvisateur·rices se font une mission de vous surprendre\, vous amuser\, vous émouvoir…  bref\, de jouer des multiples cordes inhérentes à l’art de l’improvisation. \nQuelle équipe remportera le match ? Lesquelles passeront en demi-finales puis en finale ? Laquelle sortira championne de cette Saison de la Coupe Charade 2026 ?  Au public de voter ! \n\nBILLETTERIE
URL:https://lni.ca/evenement/match-6-scc2026-bleus-vs-verts/
LOCATION:MTELUS\, 59 Rue Sainte-Catherine Est\, Montréal\, Québec\, H2X 1K5\, Canada
CATEGORIES:Matchs d'impro,Saison de la Coupe Charade,Spectacles
ATTACH;FMTTYPE=image/jpeg:https://lni.ca/wp-content/uploads/2025/08/06-8mars_matchsCARRE_Scc2026-LNI__B-V.jpg
END:VEVENT
BEGIN:VEVENT
DTSTART;TZID=America/Toronto:20260309T190000
DTEND;TZID=America/Toronto:20260309T190000
DTSTAMP:20260421T165231
CREATED:20250903T161009Z
LAST-MODIFIED:20260212T204457Z
UID:15750-1773082800-1773082800@lni.ca
SUMMARY:Match #7 — SCC2026 | ORANGES vs VIOLETS
DESCRIPTION:Les ORANGES : Jean-François AUBÉ – Louis-Philippe DESJARDINS – Joëlle PARÉ-BEAULIEU – Brigitte SOUCY – René ROUSSEAU (entraîneur)\nVS\nLes VIOLETS : Eve LANDRY – Mathieu LEPAGE – Marie Eve MORENCY – Francis SASSEVILLE – Vincent BOLDUC (entraîneur)\n– – – – – – \nArbitrage : Simon ROUSSEAU \nAnimation : Anaïs FAVRON \nAnalyse : Christian VANASSE \nDirection musicale : Éric DESRANLEAU \nÉclairages : Hendrick CRÉPIN \nInterprète de l’hymne : Andy ST-LOUIS \n\nLa Saison de la Coupe Charade est de retour avec ses 15 matchs réguliers\, ses 2 rencontres en demi-finales et son match final déterminant l’équipe vainqueure\, sans oublier le Match des Étoiles et le Match Jeunesse (où des artistes de la LNI affrontent une équipe formée de comédien·nes issu·es d’une émission jeunesse populaire) ! \nVéritable art national avec près de 50 ans d’existence\, le concept original du Match d’impro de la LNI attire chaque année plusieurs milliers de spectateur·rices. Revêtu de son fameux décorum inspiré du hockey\, ce spectacle pousse l’expérience au-delà de la simple compétition : sur la patinoire\, au-delà de l’ambition de s’emparer de la Coupe Charade\, les comédien·nes-improvisateur·rices se font une mission de vous surprendre\, vous amuser\, vous émouvoir…  bref\, de jouer des multiples cordes inhérentes à l’art de l’improvisation. \nQuelle équipe remportera le match ? Lesquelles passeront en demi-finales puis en finale ? Laquelle sortira championne de cette Saison de la Coupe Charade 2026 ?  Au public de voter ! \n\nBILLETTERIE
URL:https://lni.ca/evenement/match-7-scc2026-oranges-vs-violets/
LOCATION:MTELUS\, 59 Rue Sainte-Catherine Est\, Montréal\, Québec\, H2X 1K5\, Canada
CATEGORIES:Matchs d'impro,Saison de la Coupe Charade,Spectacles
ATTACH;FMTTYPE=image/jpeg:https://lni.ca/wp-content/uploads/2025/08/07-9mars_matchsCARRE_Scc2026-LNI__O-Vi.jpg
END:VEVENT
BEGIN:VEVENT
DTSTART;TZID=America/Toronto:20260315T140000
DTEND;TZID=America/Toronto:20260315T140000
DTSTAMP:20260421T165231
CREATED:20250903T160933Z
LAST-MODIFIED:20260212T204536Z
UID:15755-1773583200-1773583200@lni.ca
SUMMARY:Match #8 — SCC2026 | VERTS vs ORANGES
DESCRIPTION:Les VERTS : Fabiola N. ALADIN – Pier-Luc FUNK – Corinne FORTIN – François-Étienne PARÉ – Christian BRISSON-DARGIS (entraîneur)\nVS\nLes ORANGES : Jean-François AUBÉ – Louis-Philippe DESJARDINS – Joëlle PARÉ-BEAULIEU – Brigitte SOUCY – René ROUSSEAU (entraîneur)\n– – – – – – \nArbitrage : Yvan PONTON \nAnimation : Anaïs FAVRON \nAnalyse : Christian VANASSE \nDirection musicale : Éric DESRANLEAU \nÉclairages : Hendrick CRÉPIN \nInterprète de l’hymne : Andy ST-LOUIS \n\nLa Saison de la Coupe Charade est de retour avec ses 15 matchs réguliers\, ses 2 rencontres en demi-finales et son match final déterminant l’équipe vainqueure\, sans oublier le Match des Étoiles et le Match Jeunesse (où des artistes de la LNI affrontent une équipe formée de comédien·nes issu·es d’une émission jeunesse populaire) ! \nVéritable art national avec près de 50 ans d’existence\, le concept original du Match d’impro de la LNI attire chaque année plusieurs milliers de spectateur·rices. Revêtu de son fameux décorum inspiré du hockey\, ce spectacle pousse l’expérience au-delà de la simple compétition : sur la patinoire\, au-delà de l’ambition de s’emparer de la Coupe Charade\, les comédien·nes-improvisateur·rices se font une mission de vous surprendre\, vous amuser\, vous émouvoir…  bref\, de jouer des multiples cordes inhérentes à l’art de l’improvisation. \nQuelle équipe remportera le match ? Lesquelles passeront en demi-finales puis en finale ? Laquelle sortira championne de cette Saison de la Coupe Charade 2026 ?  Au public de voter ! \n\nBILLETTERIE
URL:https://lni.ca/evenement/match-8-scc2026-verts-vs-oranges/
LOCATION:MTELUS\, 59 Rue Sainte-Catherine Est\, Montréal\, Québec\, H2X 1K5\, Canada
CATEGORIES:Matchs d'impro,Saison de la Coupe Charade,Spectacles
ATTACH;FMTTYPE=image/jpeg:https://lni.ca/wp-content/uploads/2025/08/08-15mars_matchsCARRE_Scc2026-LNI__V-O.jpg
END:VEVENT
BEGIN:VEVENT
DTSTART;TZID=America/Toronto:20260316T190000
DTEND;TZID=America/Toronto:20260316T190000
DTSTAMP:20260421T165231
CREATED:20250903T160842Z
LAST-MODIFIED:20260212T204628Z
UID:15760-1773687600-1773687600@lni.ca
SUMMARY:Match #9 — SCC2026 | BLEUS vs JAUNES
DESCRIPTION:Les BLEUS : Frédéric BARBUSCI – Anne-Marie BINETTE – Guy JODOIN – Mira MOISAN – Marie-Hélène THIBAULT (entraîneure)\nVS\nLes JAUNES : Martin BOILY – Salomé CORBO – LeLouis COURCHESNE – Sophie THIBEAULT – Delphine BIENVENU (entraîneure)\n– – – – – – \nArbitrage : Yvan PONTON \nAnimation : Anaïs FAVRON \nAnalyse : Christian VANASSE \nDirection musicale : Éric DESRANLEAU \nÉclairages : Hendrick CRÉPIN \nInterprète de l’hymne : Andy ST-LOUIS \n\nLa Saison de la Coupe Charade est de retour avec ses 15 matchs réguliers\, ses 2 rencontres en demi-finales et son match final déterminant l’équipe vainqueure\, sans oublier le Match des Étoiles et le Match Jeunesse (où des artistes de la LNI affrontent une équipe formée de comédien·nes issu·es d’une émission jeunesse populaire) ! \nVéritable art national avec près de 50 ans d’existence\, le concept original du Match d’impro de la LNI attire chaque année plusieurs milliers de spectateur·rices. Revêtu de son fameux décorum inspiré du hockey\, ce spectacle pousse l’expérience au-delà de la simple compétition : sur la patinoire\, au-delà de l’ambition de s’emparer de la Coupe Charade\, les comédien·nes-improvisateur·rices se font une mission de vous surprendre\, vous amuser\, vous émouvoir…  bref\, de jouer des multiples cordes inhérentes à l’art de l’improvisation. \nQuelle équipe remportera le match ? Lesquelles passeront en demi-finales puis en finale ? Laquelle sortira championne de cette Saison de la Coupe Charade 2026 ?  Au public de voter ! \n\nBILLETTERIE
URL:https://lni.ca/evenement/match-9-scc2026-bleus-vs-jaunes/
LOCATION:MTELUS\, 59 Rue Sainte-Catherine Est\, Montréal\, Québec\, H2X 1K5\, Canada
CATEGORIES:Matchs d'impro,Saison de la Coupe Charade,Spectacles
ATTACH;FMTTYPE=image/jpeg:https://lni.ca/wp-content/uploads/2025/08/09-16mars_matchsCARRE_Scc2026-LNI__B-J.jpg
END:VEVENT
BEGIN:VEVENT
DTSTART;TZID=America/Toronto:20260325T193000
DTEND;TZID=America/Toronto:20260325T193000
DTSTAMP:20260421T165231
CREATED:20260227T181329Z
LAST-MODIFIED:20260305T205019Z
UID:17667-1774467000-1774467000@lni.ca
SUMMARY:TOURNÉE - LNI vs La Ligue d'Improvisation de Londres (FBI) | ANGLETERRE\, LONDRES
DESCRIPTION:La LNI… en TOURNÉE EUROPÉENNE ! \nCe PRINTEMPS 2026\, l’équipe est composée de :\nChristian BRISSON-DARGIS (entraîneur) \nFrédéric BARBUSCI\nVincent BOLDUC\nBrigitte SOUCY\nMarie-Hélène THIBAULT \n——————————– \nEn 1982\, lors d’un passage remarqué au Festival d’Avignon\, la LNI présentait le Match d’impro à l’Europe et au reste du monde. Depuis\, le Théâtre de la Ligue Nationale d’Improvisation traverse régulièrement l’océan. L’organisation de tournées officielles permet notamment d’enrichissants échanges avec des acteur·rices de l’improvisation au-delà de nos frontières\, nous offrant l’occasion de nourrir notre pratique tout en mettant la lumière sur les véritables pionniers de la discipline que nous sommes.  \n\nDATE : 25 mars 2026\nPAYS/VILLE : Angleterre\, Londres\nLIEU : The Tabernacle (35 Powis Square\, off Portobello Road\, London\, NOTTING HILL\, W11 2AY)\nREÇU PAR : La Délégation générale du Québec à Londres\nÉQUIPE AFFRONTÉE : La Ligue d’Improvisation de Londres (FBI) \nINFOS / BILLETS
URL:https://lni.ca/evenement/tournee-lni-vs-la-ligue-dimprovisation-de-londres-fbi-angleterre-londres/
LOCATION:The Tabernacle Theatre\, 34-35 Powis Square\, Londres\, W11 2AY\, Royaume-Uni
CATEGORIES:Matchs d'impro,Spectacles,Tournée européenne
ATTACH;FMTTYPE=image/png:https://lni.ca/wp-content/uploads/2026/02/1800x1800_LNI-TournEURO-Print26-Joueurs-coach-A.png
END:VEVENT
BEGIN:VEVENT
DTSTART;TZID=America/Toronto:20260326T203000
DTEND;TZID=America/Toronto:20260326T203000
DTSTAMP:20260421T165231
CREATED:20260227T180447Z
LAST-MODIFIED:20260227T203941Z
UID:17669-1774557000-1774557000@lni.ca
SUMMARY:TOURNÉE - LNI vs La Ligue d'Improvisation de Nantes (La LINA) | FRANCE\, NANTES
DESCRIPTION:La LNI… en TOURNÉE EUROPÉENNE ! \nCe PRINTEMPS 2026\, l’équipe est composée de :\nChristian BRISSON-DARGIS (entraîneur) \nFrédéric BARBUSCI\nVincent BOLDUC\nBrigitte SOUCY\nMarie-Hélène THIBAULT \n——————————– \nEn 1982\, lors d’un passage remarqué au Festival d’Avignon\, la LNI présentait le Match d’impro à l’Europe et au reste du monde. Depuis\, le Théâtre de la Ligue Nationale d’Improvisation traverse régulièrement l’océan. L’organisation de tournées officielles permet notamment d’enrichissants échanges avec des acteur·rices de l’improvisation au-delà de nos frontières\, nous offrant l’occasion de nourrir notre pratique tout en mettant la lumière sur les véritables pionniers de la discipline que nous sommes.  \n\nDATE : 26 mars 2026\nPAYS/VILLE : France\, Nantes\nLIEU : Maison de quartier de Doulon (1 rue de la Basse Chênaie\, 44300 Nantes\, France)\nREÇU PAR :  La Ligue d’Improvisation de Nantes (La LINA)\nÉQUIPE AFFRONTÉE : La Ligue d’Improvisation de Nantes (La LINA) \nINFOS / BILLETS (à venir…)
URL:https://lni.ca/evenement/tournee-lni-vs-la-ligue-dimprovisation-de-nantes-la-lina-france-nantes/
LOCATION:Maison de quartier Doulon\, 1 Rue de la Basse Chênaie\, Nantes\, 44300\, France
CATEGORIES:Matchs d'impro,Spectacles,Tournée européenne
ATTACH;FMTTYPE=image/png:https://lni.ca/wp-content/uploads/2026/02/1800x1800_LNI-TournEURO-Print26-Joueurs-coach-A.png
END:VEVENT
BEGIN:VEVENT
DTSTART;TZID=America/Toronto:20260327T203000
DTEND;TZID=America/Toronto:20260327T203000
DTSTAMP:20260421T165231
CREATED:20260227T180954Z
LAST-MODIFIED:20260227T204013Z
UID:17671-1774643400-1774643400@lni.ca
SUMMARY:TOURNÉE - LNI vs La Faille | FRANCE\, NANTES
DESCRIPTION:La LNI… en TOURNÉE EUROPÉENNE ! \nCe PRINTEMPS 2026\, l’équipe est composée de :\nChristian BRISSON-DARGIS (entraîneur) \nFrédéric BARBUSCI\nVincent BOLDUC\nBrigitte SOUCY\nMarie-Hélène THIBAULT \n——————————– \nEn 1982\, lors d’un passage remarqué au Festival d’Avignon\, la LNI présentait le Match d’impro à l’Europe et au reste du monde. Depuis\, le Théâtre de la Ligue Nationale d’Improvisation traverse régulièrement l’océan. L’organisation de tournées officielles permet notamment d’enrichissants échanges avec des acteur·rices de l’improvisation au-delà de nos frontières\, nous offrant l’occasion de nourrir notre pratique tout en mettant la lumière sur les véritables pionniers de la discipline que nous sommes.  \n\nDATE : 27 mars 2026\nPAYS/VILLE : France\, Nantes\nLIEU : Salle du Sémaphore (9 Bd Vincent Gâche\, 44200 Nantes\, France)\nREÇU PAR :  La Fabrique à Impros (FAI)\nÉQUIPE AFFRONTÉE : La Faille \nINFOS / BILLETS
URL:https://lni.ca/evenement/tournee-lni-vs-la-faille-france-nantes/
LOCATION:Le Sémaphore\, 9 Boulevard Vincent Gâche\, Nantes\, 44200\, France
CATEGORIES:Matchs d'impro,Spectacles,Tournée européenne
ATTACH;FMTTYPE=image/png:https://lni.ca/wp-content/uploads/2026/02/1800x1800_LNI-TournEURO-Print26-Joueurs-coach-A.png
END:VEVENT
BEGIN:VEVENT
DTSTART;TZID=America/Toronto:20260329T140000
DTEND;TZID=America/Toronto:20260329T140000
DTSTAMP:20260421T165231
CREATED:20250903T160750Z
LAST-MODIFIED:20260323T213332Z
UID:15766-1774792800-1774792800@lni.ca
SUMMARY:Match #10 — SCC2026 | VERTS vs JAUNES
DESCRIPTION:Les VERTS : Fabiola N. ALADIN – Pier-Luc FUNK – Corinne FORTIN – François-Étienne PARÉ – Jean-Philippe DURAND (En remplacement de l’entraîneur Christian BRISSON-DARGIS)\nVS\nLes JAUNES : Martin BOILY – Salomé CORBO – LeLouis COURCHESNE – Sophie THIBEAULT – Delphine BIENVENU (entraîneure)\n– – – – – – \nArbitrage : Simon ROUSSEAU \nAnimation : Mathieu BOUILLON \nAnalyse : Christian VANASSE \nDirection musicale : Éric DESRANLEAU \nÉclairages : Vanessa TURGEON \nInterprète de l’hymne : Andy ST-LOUIS \n\nLa Saison de la Coupe Charade est de retour avec ses 15 matchs réguliers\, ses 2 rencontres en demi-finales et son match final déterminant l’équipe vainqueure\, sans oublier le Match des Étoiles et le Match Jeunesse (où des artistes de la LNI affrontent une équipe formée de comédien·nes issu·es d’une émission jeunesse populaire) ! \nVéritable art national avec près de 50 ans d’existence\, le concept original du Match d’impro de la LNI attire chaque année plusieurs milliers de spectateur·rices. Revêtu de son fameux décorum inspiré du hockey\, ce spectacle pousse l’expérience au-delà de la simple compétition : sur la patinoire\, au-delà de l’ambition de s’emparer de la Coupe Charade\, les comédien·nes-improvisateur·rices se font une mission de vous surprendre\, vous amuser\, vous émouvoir…  bref\, de jouer des multiples cordes inhérentes à l’art de l’improvisation. \nQuelle équipe remportera le match ? Lesquelles passeront en demi-finales puis en finale ? Laquelle sortira championne de cette Saison de la Coupe Charade 2026 ?  Au public de voter ! \n\nBILLETTERIE
URL:https://lni.ca/evenement/match-10-scc2026-verts-vs-jaunes/
LOCATION:MTELUS\, 59 Rue Sainte-Catherine Est\, Montréal\, Québec\, H2X 1K5\, Canada
CATEGORIES:Matchs d'impro,Saison de la Coupe Charade,Spectacles
ATTACH;FMTTYPE=image/jpeg:https://lni.ca/wp-content/uploads/2025/08/10-29mars_matchsCARRE_Scc2026-LNI__V-J.jpg
END:VEVENT
BEGIN:VEVENT
DTSTART;TZID=America/Toronto:20260329T160000
DTEND;TZID=America/Toronto:20260329T160000
DTSTAMP:20260421T165231
CREATED:20260227T180659Z
LAST-MODIFIED:20260227T204048Z
UID:17673-1774800000-1774800000@lni.ca
SUMMARY:TOURNÉE - LNI vs La Ligue d'Improvisation de Lyon (La LILY) | FRANCE\, LYON
DESCRIPTION:La LNI… en TOURNÉE EUROPÉENNE ! \nCe PRINTEMPS 2026\, l’équipe est composée de :\nChristian BRISSON-DARGIS (entraîneur) \nFrédéric BARBUSCI\nVincent BOLDUC\nBrigitte SOUCY\nMarie-Hélène THIBAULT \n——————————– \nEn 1982\, lors d’un passage remarqué au Festival d’Avignon\, la LNI présentait le Match d’impro à l’Europe et au reste du monde. Depuis\, le Théâtre de la Ligue Nationale d’Improvisation traverse régulièrement l’océan. L’organisation de tournées officielles permet notamment d’enrichissants échanges avec des acteur·rices de l’improvisation au-delà de nos frontières\, nous offrant l’occasion de nourrir notre pratique tout en mettant la lumière sur les véritables pionniers de la discipline que nous sommes.  \n\nDATE : 29 mars 2026\nPAYS/VILLE : France\, Lyon\nLIEU : Le Transbordeur (3 Bd de Stalingrad\, 69100 Villeurbanne\, France)\nREÇU PAR :La Ligue d’Improvisation de Lyon (La LILY)\nÉQUIPE AFFRONTÉE :La Ligue d’Improvisation de Lyon (La LILY) \nINFOS / BILLETS
URL:https://lni.ca/evenement/tournee-lni-vs-la-ligue-dimprovisation-de-lyon-la-lily-france-lyon/
LOCATION:Le Transbordeur\, 3 Boulevard de la Bataille de Stalingrad\, Villeurbanne\, Lyon\, 69100\, France
CATEGORIES:Matchs d'impro,Spectacles,Tournée européenne
ATTACH;FMTTYPE=image/png:https://lni.ca/wp-content/uploads/2026/02/1800x1800_LNI-TournEURO-Print26-Joueurs-coach-A.png
END:VEVENT
BEGIN:VEVENT
DTSTART;TZID=America/Toronto:20260330T190000
DTEND;TZID=America/Toronto:20260330T190000
DTSTAMP:20260421T165231
CREATED:20250903T160807Z
LAST-MODIFIED:20260323T213644Z
UID:15774-1774897200-1774897200@lni.ca
SUMMARY:Match #11 — SCC2026 | VIOLETS vs ROUGES
DESCRIPTION:Les VIOLETS : Mathieu LEPAGE – Paule JACOB (en remplacement d’Eve LANDRY) – Marie Eve MORENCY – Francis SASSEVILLE – Jean-François NADEAU (en remplacement de l’entraîneur Vincent BOLDUC)\nVS\nLes ROUGES : Louis CARRIÈRE – Marie Soleil DION – Joanie GUÉRIN (en remplacement de Sophie CARON) – Patrick HUARD – Sylvie MOREAU (entraîneure)\n– – – – – – \nArbitrage : Édith COCHRANE \nAnimation : Anaïs FAVRON \nAnalyse : Christian VANASSE \nDirection musicale : Éric DESRANLEAU \nÉclairages : Vanessa TURGEON \nInterprète de l’hymne : Andy ST-LOUIS \n\nLa Saison de la Coupe Charade est de retour avec ses 15 matchs réguliers\, ses 2 rencontres en demi-finales et son match final déterminant l’équipe vainqueure\, sans oublier le Match des Étoiles et le Match Jeunesse (où des artistes de la LNI affrontent une équipe formée de comédien·nes issu·es d’une émission jeunesse populaire) ! \nVéritable art national avec près de 50 ans d’existence\, le concept original du Match d’impro de la LNI attire chaque année plusieurs milliers de spectateur·rices. Revêtu de son fameux décorum inspiré du hockey\, ce spectacle pousse l’expérience au-delà de la simple compétition : sur la patinoire\, au-delà de l’ambition de s’emparer de la Coupe Charade\, les comédien·nes-improvisateur·rices se font une mission de vous surprendre\, vous amuser\, vous émouvoir…  bref\, de jouer des multiples cordes inhérentes à l’art de l’improvisation. \nQuelle équipe remportera le match ? Lesquelles passeront en demi-finales puis en finale ? Laquelle sortira championne de cette Saison de la Coupe Charade 2026 ?  Au public de voter ! \n\nBILLETTERIE
URL:https://lni.ca/evenement/match-11-scc2026-violets-vs-rouges/
LOCATION:MTELUS\, 59 Rue Sainte-Catherine Est\, Montréal\, Québec\, H2X 1K5\, Canada
CATEGORIES:Matchs d'impro,Saison de la Coupe Charade,Spectacles
ATTACH;FMTTYPE=image/jpeg:https://lni.ca/wp-content/uploads/2025/08/11-30mars_matchsCARRE_Scc2026-LNI__Vi-R.jpg
END:VEVENT
BEGIN:VEVENT
DTSTART;TZID=America/Toronto:20260331T200000
DTEND;TZID=America/Toronto:20260331T200000
DTSTAMP:20260421T165231
CREATED:20260227T180047Z
LAST-MODIFIED:20260227T204119Z
UID:17675-1774987200-1774987200@lni.ca
SUMMARY:TOURNÉE - LNI vs La Ligue d'Improvisation à Saint Apollinaire (La LISA 21) | FRANCE\, ST-APOLLINAIRE
DESCRIPTION:La LNI… en TOURNÉE EUROPÉENNE ! \nCe PRINTEMPS 2026\, l’équipe est composée de :\nChristian BRISSON-DARGIS (entraîneur) \nFrédéric BARBUSCI\nVincent BOLDUC\nBrigitte SOUCY\nMarie-Hélène THIBAULT \n——————————– \nEn 1982\, lors d’un passage remarqué au Festival d’Avignon\, la LNI présentait le Match d’impro à l’Europe et au reste du monde. Depuis\, le Théâtre de la Ligue Nationale d’Improvisation traverse régulièrement l’océan. L’organisation de tournées officielles permet notamment d’enrichissants échanges avec des acteur·rices de l’improvisation au-delà de nos frontières\, nous offrant l’occasion de nourrir notre pratique tout en mettant la lumière sur les véritables pionniers de la discipline que nous sommes.  \n\nDATE : 31 mars 2026\nPAYS/VILLE : France\, ST-APOLLINAIRE\nLIEU : Espace Culturel Tabourot des Accords (Rue François Mitterrand\, 21850 St-Apollinaire)\nREÇU PAR : La Ligue d’Improvisation à Saint Apollinaire (La LISA 21)\nÉQUIPE AFFRONTÉE : La Ligue d’Improvisation à Saint Apollinaire (La LISA 21) \nINFOS / BILLETS
URL:https://lni.ca/evenement/tournee-lni-vs-la-ligue-dimprovisation-a-saint-apollinaire-la-lisa-21-france-st-apollinaire/
LOCATION:Espace culturel Tabourot des Accords\, 21850 François Mitterrand\, Saint-Apollinaire\, France
CATEGORIES:Matchs d'impro,Spectacles,Tournée européenne
ATTACH;FMTTYPE=image/png:https://lni.ca/wp-content/uploads/2026/02/1800x1800_LNI-TournEURO-Print26-Joueurs-coach-A.png
END:VEVENT
END:VCALENDAR